BEGIN:VCALENDAR
VERSION:2.0
PRODID:-//Belper Singers - ECPv6.15.17.1//NONSGML v1.0//EN
CALSCALE:GREGORIAN
METHOD:PUBLISH
X-WR-CALNAME:Belper Singers
X-ORIGINAL-URL:https://belpersingers.org
X-WR-CALDESC:Events for Belper Singers
REFRESH-INTERVAL;VALUE=DURATION:PT1H
X-Robots-Tag:noindex
X-PUBLISHED-TTL:PT1H
BEGIN:VTIMEZONE
TZID:UTC
BEGIN:STANDARD
TZOFFSETFROM:+0000
TZOFFSETTO:+0000
TZNAME:UTC
DTSTART:20220101T000000
END:STANDARD
END:VTIMEZONE
BEGIN:VEVENT
DTSTART;TZID=UTC:20230820T093000
DTEND;TZID=UTC:20230820T180000
DTSTAMP:20260421T093304
CREATED:20240218T092755Z
LAST-MODIFIED:20240218T092755Z
UID:180-1692523800-1692554400@belpersingers.org
SUMMARY:Visiting choir at Derby Cathedral
DESCRIPTION:We are delighted to be the visiting choir at Derby Cathedral to sing morning Eucharist and Evensong. \nVisitors are welcome to the services.
URL:https://belpersingers.org/event/visiting-choir-at-derby-cathedral/
LOCATION:Derby Cathedral\, 18-19 Irongate\, Derby\, Derbyshire\, DE1 3GP\, United Kingdom
CATEGORIES:Service
ATTACH;FMTTYPE=image/png:https://belpersingers.org/wp-content/uploads/2024/02/IMG_0387.png
END:VEVENT
END:VCALENDAR